BEGIN:VCALENDAR
VERSION:2.0
METHOD:PUBLISH
X-WR-CALNAME: Agenda Universitaria | UNICEN
PRODID:-//Drupal iCal API//EN
BEGIN:VEVENT
UID:calendar.29158.field_fecha_evento.0.0
SUMMARY:CINE
DTSTAMP:20260420T194444Z
DTSTART:20260307T230000Z
DTEND:20260311T010000Z
URL;VALUE=URI:https://www.unicen.edu.ar/content/cine-312
LOCATION:Hipólito Yrigoyen 662\, Tandil.
END:VEVENT
END:VCALENDAR
