BEGIN:VCALENDAR
VERSION:2.0
METHOD:PUBLISH
X-WR-CALNAME: Agenda Universitaria | UNICEN
PRODID:-//Drupal iCal API//EN
BEGIN:VEVENT
UID:calendar.29114.field_fecha_evento.0.0
SUMMARY:CINE
DTSTAMP:20260420T200014Z
DTSTART:20260221T210000Z
DTEND:20260224T230000Z
URL;VALUE=URI:https://www.unicen.edu.ar/content/cine-310
LOCATION:Hipólito Yrigoyen 662\, Tandil.
END:VEVENT
BEGIN:VEVENT
UID:calendar.29134.field_fecha_evento.0.1
SUMMARY:CINE
DTSTAMP:20260420T200014Z
DTSTART:20260303T210000Z
DTEND:20260303T230000Z
URL;VALUE=URI:https://www.unicen.edu.ar/content/cine-311
LOCATION:Hipólito Yrigoyen 662\, Tandil.
END:VEVENT
BEGIN:VEVENT
UID:calendar.29158.field_fecha_evento.0.2
SUMMARY:CINE
DTSTAMP:20260420T200014Z
DTSTART:20260307T230000Z
DTEND:20260311T010000Z
URL;VALUE=URI:https://www.unicen.edu.ar/content/cine-312
LOCATION:Hipólito Yrigoyen 662\, Tandil.
END:VEVENT
BEGIN:VEVENT
UID:calendar.29222.field_fecha_evento.0.3
SUMMARY:CINE
DTSTAMP:20260420T200014Z
DTSTART:20260406T210000Z
DTEND:20260407T230000Z
URL;VALUE=URI:https://www.unicen.edu.ar/content/cine-313
LOCATION:Hipólito Yrigoyen 662\, Tandil.
END:VEVENT
BEGIN:VEVENT
UID:calendar.29230.field_fecha_evento.0.4
SUMMARY:CINE
DTSTAMP:20260420T200014Z
DTSTART:20260411T210000Z
DTEND:20260414T230000Z
URL;VALUE=URI:https://www.unicen.edu.ar/content/cine-314
LOCATION:Hipólito Yrigoyen 662\, Tandil.
END:VEVENT
BEGIN:VEVENT
UID:calendar.29249.field_fecha_evento.0.5
SUMMARY:CINE
DTSTAMP:20260420T200014Z
DTSTART:20260419T210000Z
DTEND:20260421T230000Z
URL;VALUE=URI:https://www.unicen.edu.ar/content/cine-315
LOCATION:Hipólito Yrigoyen 662\, Tandil.
END:VEVENT
END:VCALENDAR
