BEGIN:VCALENDAR
VERSION:2.0
METHOD:PUBLISH
X-WR-CALNAME: Agenda Universitaria | UNICEN
PRODID:-//Drupal iCal API//EN
BEGIN:VEVENT
UID:calendar.28498.field_fecha_evento.0.0
SUMMARY:CINE
DTSTAMP:20260420T204614Z
DTSTART:20250628T210000Z
DTEND:20250701T230000Z
URL;VALUE=URI:https://www.unicen.edu.ar/content/cine-292
LOCATION:Auditorium del Centro Cultural Universitario (Yrigoyen 662/Tandil)
END:VEVENT
BEGIN:VEVENT
UID:calendar.28521.field_fecha_evento.0.1
SUMMARY:CINE
DTSTAMP:20260420T204614Z
DTSTART:20250705T210000Z
DTEND:20250708T230000Z
URL;VALUE=URI:https://www.unicen.edu.ar/content/cine-293
LOCATION:Auditorium del Centro Cultural Universitario (Yrigoyen 662/Tandil)
END:VEVENT
BEGIN:VEVENT
UID:calendar.28550.field_fecha_evento.0.2
SUMMARY:CINE
DTSTAMP:20260420T204614Z
DTSTART:20250712T230000Z
DTEND:20250714T010000Z
URL;VALUE=URI:https://www.unicen.edu.ar/content/cine-294
LOCATION:Auditorium del Centro Cultural Universitario (Yrigoyen 662/Tandil)
END:VEVENT
BEGIN:VEVENT
UID:calendar.28569.field_fecha_evento.0.3
SUMMARY:Vacaciones de Invierno
DTSTAMP:20260420T204614Z
DTSTART:20250720T180000Z
DTEND:20250727T230000Z
URL;VALUE=URI:https://www.unicen.edu.ar/content/vacaciones-de-invierno
LOCATION:Auditorium del Centro Cultural Universitario (Yrigoyen 662/Tandil) y otros  \n Lugares
END:VEVENT
END:VCALENDAR
