BEGIN:VCALENDAR
VERSION:2.0
METHOD:PUBLISH
X-WR-CALNAME: Agenda Universitaria | UNICEN
PRODID:-//Drupal iCal API//EN
BEGIN:VEVENT
UID:calendar.28447.field_fecha_evento.0.0
SUMMARY:CINE
DTSTAMP:20260420T192913Z
DTSTART:20250607T210000Z
DTEND:20250610T230000Z
URL;VALUE=URI:https://www.unicen.edu.ar/content/cine-289
LOCATION:Auditorium del Centro Cultural Universitario (Yrigoyen 662/Tandil)
END:VEVENT
BEGIN:VEVENT
UID:calendar.28481.field_fecha_evento.0.1
SUMMARY:CINE
DTSTAMP:20260420T192913Z
DTSTART:20250621T210000Z
DTEND:20250624T230000Z
URL;VALUE=URI:https://www.unicen.edu.ar/content/cine-291
LOCATION:Auditorium del Centro Cultural Universitario (Yrigoyen 662/Tandil)
END:VEVENT
BEGIN:VEVENT
UID:calendar.28472.field_fecha_evento.0.2
SUMMARY:CINE
DTSTAMP:20260420T192913Z
DTSTART:20250614T210000Z
DTEND:20250617T230000Z
URL;VALUE=URI:https://www.unicen.edu.ar/content/cine-290
LOCATION:Auditorium del Centro Cultural Universitario (Yrigoyen 662/Tandil)
END:VEVENT
BEGIN:VEVENT
UID:calendar.28498.field_fecha_evento.0.3
SUMMARY:CINE
DTSTAMP:20260420T192913Z
DTSTART:20250628T210000Z
DTEND:20250701T230000Z
URL;VALUE=URI:https://www.unicen.edu.ar/content/cine-292
LOCATION:Auditorium del Centro Cultural Universitario (Yrigoyen 662/Tandil)
END:VEVENT
BEGIN:VEVENT
UID:calendar.28426.field_fecha_evento.0.4
SUMMARY:CINE
DTSTAMP:20260420T192913Z
DTSTART:20250531T230000Z
DTEND:20250603T230000Z
URL;VALUE=URI:https://www.unicen.edu.ar/content/cine-288
LOCATION:Auditorium del Centro Cultural Universitario (Yrigoyen 662/Tandil)
END:VEVENT
END:VCALENDAR
