BEGIN:VCALENDAR
VERSION:2.0
METHOD:PUBLISH
X-WR-CALNAME: Agenda Universitaria | UNICEN
PRODID:-//Drupal iCal API//EN
BEGIN:VEVENT
UID:calendar.28405.field_fecha_evento.0.0
SUMMARY:Cine
DTSTAMP:20260420T201823Z
DTSTART:20250524T210000Z
DTEND:20250527T230000Z
URL;VALUE=URI:https://www.unicen.edu.ar/content/cine-287
LOCATION:Auditorium del Centro Cultural Universitario (Yrigoyen 662/Tandil)
END:VEVENT
END:VCALENDAR
