BEGIN:VCALENDAR
VERSION:2.0
METHOD:PUBLISH
X-WR-CALNAME: Agenda Universitaria | UNICEN
PRODID:-//Drupal iCal API//EN
BEGIN:VEVENT
UID:calendar.28211.field_fecha_evento.0.0
SUMMARY:CINE
DTSTAMP:20260420T194305Z
DTSTART:20250308T210000Z
DTEND:20250311T230000Z
URL;VALUE=URI:https://www.unicen.edu.ar/content/cine-278
LOCATION:Centro Cultural Universitario\, Hipólito Yrigoyen 662
END:VEVENT
BEGIN:VEVENT
UID:calendar.28241.field_fecha_evento.0.1
SUMMARY:CINE
DTSTAMP:20260420T194305Z
DTSTART:20250315T230000Z
DTEND:20250317T010000Z
URL;VALUE=URI:https://www.unicen.edu.ar/content/cine-279
LOCATION:Centro Cultural Universitario\, Hipólito Yrigoyen 662
END:VEVENT
BEGIN:VEVENT
UID:calendar.28270.field_fecha_evento.0.2
SUMMARY:CINE
DTSTAMP:20260420T194305Z
DTSTART:20250329T210000Z
DTEND:20250401T230000Z
URL;VALUE=URI:https://www.unicen.edu.ar/content/cine-280
LOCATION:Auditorium del Centro Cultural Universitario (Yrigoyen 662/Tandil)
END:VEVENT
END:VCALENDAR
