BEGIN:VCALENDAR
VERSION:2.0
METHOD:PUBLISH
X-WR-CALNAME: Agenda Universitaria | UNICEN
PRODID:-//Drupal iCal API//EN
BEGIN:VEVENT
UID:calendar.28185.field_fecha_evento.0.0
SUMMARY:CINE
DTSTAMP:20260420T221137Z
DTSTART:20250222T203000Z
DTEND:20250225T233000Z
URL;VALUE=URI:https://www.unicen.edu.ar/content/cine-277
LOCATION:Centro Cultural Universitario\, Hipólito Yrigoyen 662
END:VEVENT
BEGIN:VEVENT
UID:calendar.28550.field_fecha_evento.0.1
SUMMARY:CINE
DTSTAMP:20260420T221137Z
DTSTART:20250712T230000Z
DTEND:20250714T010000Z
URL;VALUE=URI:https://www.unicen.edu.ar/content/cine-294
LOCATION:Auditorium del Centro Cultural Universitario (Yrigoyen 662/Tandil)
END:VEVENT
BEGIN:VEVENT
UID:calendar.28384.field_fecha_evento.0.2
SUMMARY:CINE
DTSTAMP:20260420T221137Z
DTSTART:20250517T210000Z
DTEND:20250520T230000Z
URL;VALUE=URI:https://www.unicen.edu.ar/content/cine-286
LOCATION:Auditorium del Centro Cultural Universitario (Yrigoyen 662/Tandil)
END:VEVENT
BEGIN:VEVENT
UID:calendar.28569.field_fecha_evento.0.3
SUMMARY:Vacaciones de Invierno
DTSTAMP:20260420T221137Z
DTSTART:20250720T180000Z
DTEND:20250727T230000Z
URL;VALUE=URI:https://www.unicen.edu.ar/content/vacaciones-de-invierno
LOCATION:Auditorium del Centro Cultural Universitario (Yrigoyen 662/Tandil) y otros  \n Lugares
END:VEVENT
BEGIN:VEVENT
UID:calendar.28290.field_fecha_evento.0.4
SUMMARY:CINE
DTSTAMP:20260420T221137Z
DTSTART:20250405T230000Z
DTEND:20250408T230000Z
URL;VALUE=URI:https://www.unicen.edu.ar/content/cine-281
LOCATION:Auditorium del Centro Cultural Universitario (Yrigoyen 662/Tandil)
END:VEVENT
BEGIN:VEVENT
UID:calendar.28599.field_fecha_evento.0.5
SUMMARY:CINE
DTSTAMP:20260420T221137Z
DTSTART:20250816T210000Z
DTEND:20250819T230000Z
URL;VALUE=URI:https://www.unicen.edu.ar/content/cine-295
LOCATION:Auditorium del Centro Cultural Universitario (Yrigoyen 662/Tandil)
END:VEVENT
BEGIN:VEVENT
UID:calendar.28405.field_fecha_evento.0.6
SUMMARY:Cine
DTSTAMP:20260420T221137Z
DTSTART:20250524T210000Z
DTEND:20250527T230000Z
URL;VALUE=URI:https://www.unicen.edu.ar/content/cine-287
LOCATION:Auditorium del Centro Cultural Universitario (Yrigoyen 662/Tandil)
END:VEVENT
BEGIN:VEVENT
UID:calendar.28617.field_fecha_evento.0.7
SUMMARY:CINE
DTSTAMP:20260420T221137Z
DTSTART:20250823T210000Z
DTEND:20250826T230000Z
URL;VALUE=URI:https://www.unicen.edu.ar/content/cine-296
LOCATION:Auditorium del Centro Cultural Universitario (Yrigoyen 662/Tandil)
END:VEVENT
BEGIN:VEVENT
UID:calendar.28241.field_fecha_evento.0.8
SUMMARY:CINE
DTSTAMP:20260420T221137Z
DTSTART:20250315T230000Z
DTEND:20250317T010000Z
URL;VALUE=URI:https://www.unicen.edu.ar/content/cine-279
LOCATION:Centro Cultural Universitario\, Hipólito Yrigoyen 662
END:VEVENT
BEGIN:VEVENT
UID:calendar.28632.field_fecha_evento.0.9
SUMMARY:CINE
DTSTAMP:20260420T221137Z
DTSTART:20250830T210000Z
DTEND:20250902T230000Z
URL;VALUE=URI:https://www.unicen.edu.ar/content/cine-297
LOCATION:Auditorium del Centro Cultural Universitario (Yrigoyen 662/Tandil)
END:VEVENT
BEGIN:VEVENT
UID:calendar.28426.field_fecha_evento.0.10
SUMMARY:CINE
DTSTAMP:20260420T221137Z
DTSTART:20250531T230000Z
DTEND:20250603T230000Z
URL;VALUE=URI:https://www.unicen.edu.ar/content/cine-288
LOCATION:Auditorium del Centro Cultural Universitario (Yrigoyen 662/Tandil)
END:VEVENT
BEGIN:VEVENT
UID:calendar.28642.field_fecha_evento.0.11
SUMMARY:CINE
DTSTAMP:20260420T221137Z
DTSTART:20250906T210000Z
DTEND:20250909T230000Z
URL;VALUE=URI:https://www.unicen.edu.ar/content/cine-298
LOCATION:Auditorium del Centro Cultural Universitario (Yrigoyen 662/Tandil)
END:VEVENT
BEGIN:VEVENT
UID:calendar.28303.field_fecha_evento.0.12
SUMMARY:CINE
DTSTAMP:20260420T221137Z
DTSTART:20250412T203000Z
DTEND:20250414T230000Z
URL;VALUE=URI:https://www.unicen.edu.ar/content/cine-282
LOCATION:Auditorium del Centro Cultural Universitario (Yrigoyen 662/Tandil)
END:VEVENT
BEGIN:VEVENT
UID:calendar.28658.field_fecha_evento.0.13
SUMMARY:CINE
DTSTAMP:20260420T221137Z
DTSTART:20250913T210000Z
DTEND:20250916T230000Z
URL;VALUE=URI:https://www.unicen.edu.ar/content/cine-299
LOCATION:Auditorium del Centro Cultural Universitario (Yrigoyen 662/Tandil)
END:VEVENT
BEGIN:VEVENT
UID:calendar.28447.field_fecha_evento.0.14
SUMMARY:CINE
DTSTAMP:20260420T221137Z
DTSTART:20250607T210000Z
DTEND:20250610T230000Z
URL;VALUE=URI:https://www.unicen.edu.ar/content/cine-289
LOCATION:Auditorium del Centro Cultural Universitario (Yrigoyen 662/Tandil)
END:VEVENT
BEGIN:VEVENT
UID:calendar.28688.field_fecha_evento.0.15
SUMMARY:Cine
DTSTAMP:20260420T221137Z
DTSTART:20250920T210000Z
DTEND:20250923T230000Z
URL;VALUE=URI:https://www.unicen.edu.ar/content/cine-300
LOCATION:Auditorium del Centro Cultural Universitario (Yrigoyen 662/Tandil)
END:VEVENT
BEGIN:VEVENT
UID:calendar.28211.field_fecha_evento.0.16
SUMMARY:CINE
DTSTAMP:20260420T221137Z
DTSTART:20250308T210000Z
DTEND:20250311T230000Z
URL;VALUE=URI:https://www.unicen.edu.ar/content/cine-278
LOCATION:Centro Cultural Universitario\, Hipólito Yrigoyen 662
END:VEVENT
BEGIN:VEVENT
UID:calendar.28715.field_fecha_evento.0.17
SUMMARY:CINE
DTSTAMP:20260420T221137Z
DTSTART:20250927T210000Z
DTEND:20250930T230000Z
URL;VALUE=URI:https://www.unicen.edu.ar/content/cine-301
LOCATION:Auditorium del Centro Cultural Universitario (Yrigoyen 662/Tandil)
END:VEVENT
BEGIN:VEVENT
UID:calendar.28472.field_fecha_evento.0.18
SUMMARY:CINE
DTSTAMP:20260420T221137Z
DTSTART:20250614T210000Z
DTEND:20250617T230000Z
URL;VALUE=URI:https://www.unicen.edu.ar/content/cine-290
LOCATION:Auditorium del Centro Cultural Universitario (Yrigoyen 662/Tandil)
END:VEVENT
BEGIN:VEVENT
UID:calendar.28842.field_fecha_evento.0.19
SUMMARY:CINE
DTSTAMP:20260420T221137Z
DTSTART:20251004T230000Z
DTEND:20251008T010000Z
URL;VALUE=URI:https://www.unicen.edu.ar/content/cine-302
LOCATION:Auditorium del Centro Cultural Universitario (Yrigoyen 662/Tandil)
END:VEVENT
BEGIN:VEVENT
UID:calendar.28321.field_fecha_evento.0.20
SUMMARY:Cine
DTSTAMP:20260420T221137Z
DTSTART:20250421T230000Z
DTEND:20250422T230000Z
URL;VALUE=URI:https://www.unicen.edu.ar/content/cine-283
LOCATION:Auditorium del Centro Cultural Universitario (Yrigoyen 662/Tandil)
END:VEVENT
BEGIN:VEVENT
UID:calendar.28878.field_fecha_evento.0.21
SUMMARY:CINE
DTSTAMP:20260420T221137Z
DTSTART:20251013T210000Z
DTEND:20251016T230000Z
URL;VALUE=URI:https://www.unicen.edu.ar/content/cine-303
LOCATION:Auditorium del Centro Cultural Universitario (Yrigoyen 662/Tandil)
END:VEVENT
BEGIN:VEVENT
UID:calendar.28481.field_fecha_evento.0.22
SUMMARY:CINE
DTSTAMP:20260420T221137Z
DTSTART:20250621T210000Z
DTEND:20250624T230000Z
URL;VALUE=URI:https://www.unicen.edu.ar/content/cine-291
LOCATION:Auditorium del Centro Cultural Universitario (Yrigoyen 662/Tandil)
END:VEVENT
BEGIN:VEVENT
UID:calendar.28970.field_fecha_evento.0.23
SUMMARY:CINE
DTSTAMP:20260420T221137Z
DTSTART:20251109T000000Z
DTEND:20251111T230000Z
URL;VALUE=URI:https://www.unicen.edu.ar/content/cine-305
LOCATION:Hipólito Yrigoyen 662\, Tandil.
END:VEVENT
BEGIN:VEVENT
UID:calendar.28270.field_fecha_evento.0.24
SUMMARY:CINE
DTSTAMP:20260420T221137Z
DTSTART:20250329T210000Z
DTEND:20250401T230000Z
URL;VALUE=URI:https://www.unicen.edu.ar/content/cine-280
LOCATION:Auditorium del Centro Cultural Universitario (Yrigoyen 662/Tandil)
END:VEVENT
BEGIN:VEVENT
UID:calendar.28992.field_fecha_evento.0.25
SUMMARY:CINE
DTSTAMP:20260420T221137Z
DTSTART:20251117T210000Z
DTEND:20251118T230000Z
URL;VALUE=URI:https://www.unicen.edu.ar/content/cine-306
LOCATION:Hipólito Yrigoyen 662\, Tandil.
END:VEVENT
BEGIN:VEVENT
UID:calendar.28498.field_fecha_evento.0.26
SUMMARY:CINE
DTSTAMP:20260420T221137Z
DTSTART:20250628T210000Z
DTEND:20250701T230000Z
URL;VALUE=URI:https://www.unicen.edu.ar/content/cine-292
LOCATION:Auditorium del Centro Cultural Universitario (Yrigoyen 662/Tandil)
END:VEVENT
BEGIN:VEVENT
UID:calendar.29008.field_fecha_evento.0.27
SUMMARY:Cine
DTSTAMP:20260420T221137Z
DTSTART:20251121T210000Z
DTEND:20251125T230000Z
URL;VALUE=URI:https://www.unicen.edu.ar/content/cine-307
LOCATION:Hipólito Yrigoyen 662\, Tandil.
END:VEVENT
BEGIN:VEVENT
UID:calendar.28338.field_fecha_evento.0.28
SUMMARY:CINE
DTSTAMP:20260420T221137Z
DTSTART:20250426T210000Z
DTEND:20250429T230000Z
URL;VALUE=URI:https://www.unicen.edu.ar/content/cine-284
LOCATION:Auditorium del Centro Cultural Universitario (Yrigoyen 662/Tandil)
END:VEVENT
BEGIN:VEVENT
UID:calendar.29039.field_fecha_evento.0.29
SUMMARY:CINE
DTSTAMP:20260420T221137Z
DTSTART:20251206T190000Z
DTEND:20251209T230000Z
URL;VALUE=URI:https://www.unicen.edu.ar/content/cine-308
LOCATION:Hipólito Yrigoyen 662\, Tandil.
END:VEVENT
BEGIN:VEVENT
UID:calendar.28521.field_fecha_evento.0.30
SUMMARY:CINE
DTSTAMP:20260420T221137Z
DTSTART:20250705T210000Z
DTEND:20250708T230000Z
URL;VALUE=URI:https://www.unicen.edu.ar/content/cine-293
LOCATION:Auditorium del Centro Cultural Universitario (Yrigoyen 662/Tandil)
END:VEVENT
BEGIN:VEVENT
UID:calendar.29049.field_fecha_evento.0.31
SUMMARY:CINE
DTSTAMP:20260420T221137Z
DTSTART:20251213T210000Z
DTEND:20251216T230000Z
URL;VALUE=URI:https://www.unicen.edu.ar/content/cine-309
LOCATION:Hipólito Yrigoyen 662\, Tandil.
END:VEVENT
BEGIN:VEVENT
UID:calendar.28157.field_fecha_evento.0.32
SUMMARY:CINE
DTSTAMP:20260420T221137Z
DTSTART:20250215T203000Z
DTEND:20250218T230000Z
URL;VALUE=URI:https://www.unicen.edu.ar/content/cine-276
LOCATION:Centro Cultural Universitario\, Hipólito Yrigoyen 662
END:VEVENT
END:VCALENDAR
