BEGIN:VCALENDAR
VERSION:2.0
METHOD:PUBLISH
X-WR-CALNAME: Agenda Universitaria | UNICEN
PRODID:-//Drupal iCal API//EN
BEGIN:VEVENT
UID:calendar.27906.field_fecha_evento.0.0
SUMMARY:CINE
DTSTAMP:20260422T211521Z
DTSTART:20241109T200000Z
DTEND:20241112T230000Z
URL;VALUE=URI:https://www.unicen.edu.ar/content/cine-271
LOCATION:Centro Cultural Universitario\, Hipólito Yrigoyen 662
END:VEVENT
END:VCALENDAR
