BEGIN:VCALENDAR
VERSION:2.0
METHOD:PUBLISH
X-WR-CALNAME: Agenda Universitaria | UNICEN
PRODID:-//Drupal iCal API//EN
BEGIN:VEVENT
UID:calendar.27906.field_fecha_evento.0.0
SUMMARY:CINE
DTSTAMP:20260421T204059Z
DTSTART:20241109T200000Z
DTEND:20241112T230000Z
URL;VALUE=URI:https://www.unicen.edu.ar/content/cine-271
LOCATION:Centro Cultural Universitario\, Hipólito Yrigoyen 662
END:VEVENT
BEGIN:VEVENT
UID:calendar.27961.field_fecha_evento.0.1
SUMMARY:Llega el 21° Tandil CINE!
DTSTAMP:20260421T204059Z
DTSTART:20241122T210000Z
DTEND:20241129T230000Z
URL;VALUE=URI:https://www.unicen.edu.ar/content/llega-el-21%C2%B0-tandil-cine
LOCATION:Centro Cultural Universitario\, Hipólito Yrigoyen 662
END:VEVENT
BEGIN:VEVENT
UID:calendar.27934.field_fecha_evento.0.2
SUMMARY:CINE
DTSTAMP:20260421T204059Z
DTSTART:20241116T210000Z
DTEND:20241119T230000Z
URL;VALUE=URI:https://www.unicen.edu.ar/content/cine-272
LOCATION:Centro Cultural Universitario\, Hipólito Yrigoyen 662
END:VEVENT
BEGIN:VEVENT
UID:calendar.27982.field_fecha_evento.0.3
SUMMARY:CINE
DTSTAMP:20260421T204059Z
DTSTART:20241130T210000Z
DTEND:20241201T230000Z
URL;VALUE=URI:https://www.unicen.edu.ar/content/cine-273
LOCATION:Centro Cultural Universitario\, Hipólito Yrigoyen 662
END:VEVENT
BEGIN:VEVENT
UID:calendar.27865.field_fecha_evento.0.4
SUMMARY:CINE
DTSTAMP:20260421T204059Z
DTSTART:20241103T210000Z
DTEND:20241105T230000Z
URL;VALUE=URI:https://www.unicen.edu.ar/content/cine-270
LOCATION:Centro Cultural Universitario\, Hipólito Yrigoyen 662
END:VEVENT
END:VCALENDAR
