BEGIN:VCALENDAR
VERSION:2.0
METHOD:PUBLISH
X-WR-CALNAME: Agenda Universitaria | UNICEN
PRODID:-//Drupal iCal API//EN
BEGIN:VEVENT
UID:calendar.27128.field_fecha_evento.0.0
SUMMARY:CINE
DTSTAMP:20260422T193335Z
DTSTART:20240316T210000Z
DTEND:20240319T230000Z
URL;VALUE=URI:https://www.unicen.edu.ar/content/cine-255
LOCATION:Centro Cultural Universitario\, Hipólito Yrigoyen 662
END:VEVENT
END:VCALENDAR
