BEGIN:VCALENDAR
VERSION:2.0
METHOD:PUBLISH
X-WR-CALNAME: Agenda Universitaria | UNICEN
PRODID:-//Drupal iCal API//EN
BEGIN:VEVENT
UID:calendar.27533.field_fecha_evento.0.0
SUMMARY:CINE
DTSTAMP:20260421T204106Z
DTSTART:20240713T200000Z
DTEND:20240721T230000Z
URL;VALUE=URI:https://www.unicen.edu.ar/content/cine-264
LOCATION:Centro Cultural Universitario\, Hipólito Yrigoyen 662
END:VEVENT
BEGIN:VEVENT
UID:calendar.27192.field_fecha_evento.0.1
SUMMARY:CINE
DTSTAMP:20260421T204106Z
DTSTART:20240406T210000Z
DTEND:20240409T230000Z
URL;VALUE=URI:https://www.unicen.edu.ar/content/cine-257
LOCATION:Centro Cultural Universitario\, Hipólito Yrigoyen 662
END:VEVENT
BEGIN:VEVENT
UID:calendar.27574.field_fecha_evento.0.2
SUMMARY:CINE
DTSTAMP:20260421T204106Z
DTSTART:20240810T210000Z
DTEND:20240813T230000Z
URL;VALUE=URI:https://www.unicen.edu.ar/content/cine-265
LOCATION:Centro Cultural Universitario\, Hipólito Yrigoyen 662
END:VEVENT
BEGIN:VEVENT
UID:calendar.27310.field_fecha_evento.0.3
SUMMARY:CINE
DTSTAMP:20260421T204106Z
DTSTART:20240511T210000Z
DTEND:20240514T210000Z
URL;VALUE=URI:https://www.unicen.edu.ar/content/cine-258
LOCATION:Centro Cultural Universitario\, Hipólito Yrigoyen 662
END:VEVENT
BEGIN:VEVENT
UID:calendar.27100.field_fecha_evento.0.4
SUMMARY:CINE
DTSTAMP:20260421T204106Z
DTSTART:20240309T203000Z
DTEND:20240313T010000Z
URL;VALUE=URI:https://www.unicen.edu.ar/content/cine-254
LOCATION:Centro Cultural Universitario\, Hipólito Yrigoyen 662
END:VEVENT
BEGIN:VEVENT
UID:calendar.27759.field_fecha_evento.0.5
SUMMARY:CINE
DTSTAMP:20260421T204106Z
DTSTART:20240928T210000Z
DTEND:20241001T010000Z
URL;VALUE=URI:https://www.unicen.edu.ar/content/cine-267
LOCATION:Centro Cultural Universitario\, Hipólito Yrigoyen 662
END:VEVENT
BEGIN:VEVENT
UID:calendar.27341.field_fecha_evento.0.6
SUMMARY:Cine
DTSTAMP:20260421T204106Z
DTSTART:20240518T210000Z
DTEND:20240522T010000Z
URL;VALUE=URI:https://www.unicen.edu.ar/content/cine-259
LOCATION:Centro Cultural Universitario\, Hipólito Yrigoyen 662
END:VEVENT
BEGIN:VEVENT
UID:calendar.27775.field_fecha_evento.0.7
SUMMARY:CINE
DTSTAMP:20260421T204106Z
DTSTART:20241005T210000Z
DTEND:20241007T233000Z
URL;VALUE=URI:https://www.unicen.edu.ar/content/cine-268
LOCATION:Centro Cultural Universitario\, Hipólito Yrigoyen 662
END:VEVENT
BEGIN:VEVENT
UID:calendar.27039.field_fecha_evento.0.8
SUMMARY:CINE
DTSTAMP:20260421T204106Z
DTSTART:20240217T210000Z
DTEND:20240220T230000Z
URL;VALUE=URI:https://www.unicen.edu.ar/content/cine-251
LOCATION:Centro Cultural Universitario\, Hipólito Yrigoyen 662
END:VEVENT
BEGIN:VEVENT
UID:calendar.27849.field_fecha_evento.0.9
SUMMARY:CINE
DTSTAMP:20260421T204106Z
DTSTART:20241026T210000Z
DTEND:20241029T230000Z
URL;VALUE=URI:https://www.unicen.edu.ar/content/cine-269
LOCATION:Centro Cultural Universitario\, Hipólito Yrigoyen 662
END:VEVENT
BEGIN:VEVENT
UID:calendar.27379.field_fecha_evento.0.10
SUMMARY:CINE
DTSTAMP:20260421T204106Z
DTSTART:20240601T210000Z
DTEND:20240604T230000Z
URL;VALUE=URI:https://www.unicen.edu.ar/content/cine-260
LOCATION:Centro Cultural Universitario\, Hipólito Yrigoyen 662
END:VEVENT
BEGIN:VEVENT
UID:calendar.27865.field_fecha_evento.0.11
SUMMARY:CINE
DTSTAMP:20260421T204106Z
DTSTART:20241103T210000Z
DTEND:20241105T230000Z
URL;VALUE=URI:https://www.unicen.edu.ar/content/cine-270
LOCATION:Centro Cultural Universitario\, Hipólito Yrigoyen 662
END:VEVENT
BEGIN:VEVENT
UID:calendar.27155.field_fecha_evento.0.12
SUMMARY:CINE
DTSTAMP:20260421T204106Z
DTSTART:20240323T210000Z
DTEND:20240326T230000Z
URL;VALUE=URI:https://www.unicen.edu.ar/content/cine-256
LOCATION:Centro Cultural Universitario\, Hipólito Yrigoyen 662
END:VEVENT
BEGIN:VEVENT
UID:calendar.27906.field_fecha_evento.0.13
SUMMARY:CINE
DTSTAMP:20260421T204106Z
DTSTART:20241109T200000Z
DTEND:20241112T230000Z
URL;VALUE=URI:https://www.unicen.edu.ar/content/cine-271
LOCATION:Centro Cultural Universitario\, Hipólito Yrigoyen 662
END:VEVENT
BEGIN:VEVENT
UID:calendar.27399.field_fecha_evento.0.14
SUMMARY:CINE
DTSTAMP:20260421T204106Z
DTSTART:20240608T210000Z
DTEND:20240610T230000Z
URL;VALUE=URI:https://www.unicen.edu.ar/content/cine-261
END:VEVENT
BEGIN:VEVENT
UID:calendar.27934.field_fecha_evento.0.15
SUMMARY:CINE
DTSTAMP:20260421T204106Z
DTSTART:20241116T210000Z
DTEND:20241119T230000Z
URL;VALUE=URI:https://www.unicen.edu.ar/content/cine-272
LOCATION:Centro Cultural Universitario\, Hipólito Yrigoyen 662
END:VEVENT
BEGIN:VEVENT
UID:calendar.27075.field_fecha_evento.0.16
SUMMARY:CINE
DTSTAMP:20260421T204106Z
DTSTART:20240302T210000Z
DTEND:20240305T230000Z
URL;VALUE=URI:https://www.unicen.edu.ar/content/cine-253
LOCATION:Centro Cultural Universitario\, Hipólito Yrigoyen 662
END:VEVENT
BEGIN:VEVENT
UID:calendar.27961.field_fecha_evento.0.17
SUMMARY:Llega el 21° Tandil CINE!
DTSTAMP:20260421T204106Z
DTSTART:20241122T210000Z
DTEND:20241129T230000Z
URL;VALUE=URI:https://www.unicen.edu.ar/content/llega-el-21%C2%B0-tandil-cine
LOCATION:Centro Cultural Universitario\, Hipólito Yrigoyen 662
END:VEVENT
BEGIN:VEVENT
UID:calendar.27420.field_fecha_evento.0.18
SUMMARY:CINE
DTSTAMP:20260421T204106Z
DTSTART:20240615T210000Z
DTEND:20240618T210000Z
URL;VALUE=URI:https://www.unicen.edu.ar/content/cine-262
LOCATION:Centro Cultural Universitario\, Hipólito Yrigoyen 662
END:VEVENT
BEGIN:VEVENT
UID:calendar.27982.field_fecha_evento.0.19
SUMMARY:CINE
DTSTAMP:20260421T204106Z
DTSTART:20241130T210000Z
DTEND:20241201T230000Z
URL;VALUE=URI:https://www.unicen.edu.ar/content/cine-273
LOCATION:Centro Cultural Universitario\, Hipólito Yrigoyen 662
END:VEVENT
BEGIN:VEVENT
UID:calendar.27128.field_fecha_evento.0.20
SUMMARY:CINE
DTSTAMP:20260421T204106Z
DTSTART:20240316T210000Z
DTEND:20240319T230000Z
URL;VALUE=URI:https://www.unicen.edu.ar/content/cine-255
LOCATION:Centro Cultural Universitario\, Hipólito Yrigoyen 662
END:VEVENT
BEGIN:VEVENT
UID:calendar.28010.field_fecha_evento.0.21
SUMMARY:CINE
DTSTAMP:20260421T204106Z
DTSTART:20241207T220000Z
DTEND:20241210T230000Z
URL;VALUE=URI:https://www.unicen.edu.ar/content/cine-274
LOCATION:Centro Cultural Universitario\, Hipólito Yrigoyen 662
END:VEVENT
BEGIN:VEVENT
UID:calendar.27465.field_fecha_evento.0.22
SUMMARY:CINE
DTSTAMP:20260421T204106Z
DTSTART:20240629T210000Z
DTEND:20240702T210000Z
URL;VALUE=URI:https://www.unicen.edu.ar/content/cine-263
LOCATION:Centro Cultural Universitario\, Hipólito Yrigoyen 662
END:VEVENT
BEGIN:VEVENT
UID:calendar.28056.field_fecha_evento.0.23
SUMMARY:CINE
DTSTAMP:20260421T204106Z
DTSTART:20241214T210000Z
DTEND:20241215T230000Z
URL;VALUE=URI:https://www.unicen.edu.ar/content/cine-275
LOCATION:Centro Cultural Universitario\, Hipólito Yrigoyen 662
END:VEVENT
BEGIN:VEVENT
UID:calendar.27059.field_fecha_evento.0.24
SUMMARY:Cine
DTSTAMP:20260421T204106Z
DTSTART:20240224T210000Z
DTEND:20240227T230000Z
URL;VALUE=URI:https://www.unicen.edu.ar/content/cine-252
LOCATION:Centro Cultural Universitario\, Hipólito Yrigoyen 662
END:VEVENT
BEGIN:VEVENT
UID:calendar.27732.field_fecha_evento.0.41
SUMMARY:CINE
DTSTAMP:20260421T204106Z
DTSTART:20240922T210000Z
DTEND:20240924T230000Z
URL;VALUE=URI:https://www.unicen.edu.ar/content/cine-266
LOCATION:Centro Cultural Universitario\, Hipólito Yrigoyen 662
END:VEVENT
END:VCALENDAR
