BEGIN:VCALENDAR
VERSION:2.0
METHOD:PUBLISH
X-WR-CALNAME: Agenda Universitaria | UNICEN
PRODID:-//Drupal iCal API//EN
BEGIN:VEVENT
UID:calendar.26598.field_fecha_evento.0.0
SUMMARY:CINE
DTSTAMP:20260422T193322Z
DTSTART:20230902T230000Z
DTEND:20230906T010000Z
URL;VALUE=URI:https://www.unicen.edu.ar/content/cine-240
LOCATION:Centro Cultural Universitario\, Hipólito Yrigoyen 662
END:VEVENT
END:VCALENDAR
