BEGIN:VCALENDAR
VERSION:2.0
METHOD:PUBLISH
X-WR-CALNAME: Agenda Universitaria | UNICEN
PRODID:-//Drupal iCal API//EN
BEGIN:VEVENT
UID:calendar.26670.field_fecha_evento.0.0
SUMMARY:CINE
DTSTAMP:20260422T060653Z
DTSTART:20230930T210000Z
DTEND:20231003T230000Z
URL;VALUE=URI:https://www.unicen.edu.ar/content/cine-244
LOCATION:Centro Cultural Universitario\, Hipólito Yrigoyen 662
END:VEVENT
BEGIN:VEVENT
UID:calendar.26598.field_fecha_evento.0.1
SUMMARY:CINE
DTSTAMP:20260422T060653Z
DTSTART:20230902T230000Z
DTEND:20230906T010000Z
URL;VALUE=URI:https://www.unicen.edu.ar/content/cine-240
LOCATION:Centro Cultural Universitario\, Hipólito Yrigoyen 662
END:VEVENT
BEGIN:VEVENT
UID:calendar.26611.field_fecha_evento.0.2
SUMMARY:CINE
DTSTAMP:20260422T060653Z
DTSTART:20230909T210000Z
DTEND:20230912T230000Z
URL;VALUE=URI:https://www.unicen.edu.ar/content/cine-241
LOCATION:Centro Cultural Universitario\, Hipólito Yrigoyen 662
END:VEVENT
BEGIN:VEVENT
UID:calendar.26641.field_fecha_evento.0.3
SUMMARY:CINE
DTSTAMP:20260422T060653Z
DTSTART:20230916T210000Z
DTEND:20230919T230000Z
URL;VALUE=URI:https://www.unicen.edu.ar/content/cine-242
LOCATION:Centro Cultural Universitario\, Hipólito Yrigoyen 662
END:VEVENT
BEGIN:VEVENT
UID:calendar.26660.field_fecha_evento.0.4
SUMMARY:CINE
DTSTAMP:20260422T060653Z
DTSTART:20230925T210000Z
DTEND:20230926T230000Z
URL;VALUE=URI:https://www.unicen.edu.ar/content/cine-243
LOCATION:Centro Cultural Universitario\, Hipólito Yrigoyen 662
END:VEVENT
END:VCALENDAR
