BEGIN:VCALENDAR
VERSION:2.0
METHOD:PUBLISH
X-WR-CALNAME: Agenda Universitaria | UNICEN
PRODID:-//Drupal iCal API//EN
BEGIN:VEVENT
UID:calendar.26947.field_fecha_evento.0.0
SUMMARY:Cine
DTSTAMP:20260422T171345Z
DTSTART:20231216T210000Z
DTEND:20231220T010000Z
URL;VALUE=URI:https://www.unicen.edu.ar/content/cine-250
LOCATION:Centro Cultural Universitario\, Hipólito Yrigoyen 662
END:VEVENT
BEGIN:VEVENT
UID:calendar.25740.field_fecha_evento.0.1
SUMMARY:Cine
DTSTAMP:20260422T171345Z
DTSTART:20221226T130000Z
DTEND:20230207T010000Z
URL;VALUE=URI:https://www.unicen.edu.ar/content/cine-216
LOCATION:Centro Cultural Universitario\, Hipólito Yrigoyen 662
END:VEVENT
BEGIN:VEVENT
UID:calendar.25911.field_fecha_evento.0.2
SUMMARY:Espacio Incaa Unicen
DTSTAMP:20260422T171345Z
DTSTART:20230227T183500Z
DTEND:20230303T230000Z
URL;VALUE=URI:https://www.unicen.edu.ar/content/espacio-incaa-unicen-2
LOCATION:Centro Cultural Universitario\, Hipólito Yrigoyen 662
END:VEVENT
BEGIN:VEVENT
UID:calendar.25916.field_fecha_evento.0.3
SUMMARY:CINE
DTSTAMP:20260422T171345Z
DTSTART:20230304T220000Z
DTEND:20230308T010000Z
URL;VALUE=URI:https://www.unicen.edu.ar/content/cine-217
LOCATION:Centro Cultural Universitario\, Hipólito Yrigoyen 662
END:VEVENT
BEGIN:VEVENT
UID:calendar.25944.field_fecha_evento.0.4
SUMMARY:Cine
DTSTAMP:20260422T171345Z
DTSTART:20230311T220000Z
DTEND:20230315T010000Z
URL;VALUE=URI:https://www.unicen.edu.ar/content/cine-218
LOCATION:Centro Cultural Universitario\, Hipólito Yrigoyen 662
END:VEVENT
BEGIN:VEVENT
UID:calendar.25982.field_fecha_evento.0.5
SUMMARY:Cine
DTSTAMP:20260422T171345Z
DTSTART:20230318T220000Z
DTEND:20230322T010000Z
URL;VALUE=URI:https://www.unicen.edu.ar/content/cine-219
LOCATION:Centro Cultural Universitario\, Hipólito Yrigoyen 662
END:VEVENT
BEGIN:VEVENT
UID:calendar.26023.field_fecha_evento.0.6
SUMMARY:Cine
DTSTAMP:20260422T171345Z
DTSTART:20230325T220000Z
DTEND:20230329T010000Z
URL;VALUE=URI:https://www.unicen.edu.ar/content/cine-220
LOCATION:Centro Cultural Universitario\, Hipólito Yrigoyen 662
END:VEVENT
BEGIN:VEVENT
UID:calendar.26088.field_fecha_evento.0.7
SUMMARY:CINE
DTSTAMP:20260422T171345Z
DTSTART:20230410T220000Z
DTEND:20230412T010000Z
URL;VALUE=URI:https://www.unicen.edu.ar/content/cine-222
LOCATION:Centro Cultural Universitario\, Hipólito Yrigoyen 662
END:VEVENT
BEGIN:VEVENT
UID:calendar.26102.field_fecha_evento.0.8
SUMMARY:CINE
DTSTAMP:20260422T171345Z
DTSTART:20230415T220000Z
DTEND:20230419T010000Z
URL;VALUE=URI:https://www.unicen.edu.ar/content/cine-223
LOCATION:Centro Cultural Universitario\, Hipólito Yrigoyen 662
END:VEVENT
BEGIN:VEVENT
UID:calendar.26130.field_fecha_evento.0.9
SUMMARY:CINE
DTSTAMP:20260422T171345Z
DTSTART:20230422T220000Z
DTEND:20230426T000000Z
URL;VALUE=URI:https://www.unicen.edu.ar/content/cine-224
LOCATION:Centro Cultural Universitario\, Hipólito Yrigoyen 662
END:VEVENT
BEGIN:VEVENT
UID:calendar.26163.field_fecha_evento.0.10
SUMMARY:CINE
DTSTAMP:20260422T171345Z
DTSTART:20230429T220000Z
DTEND:20230503T010000Z
URL;VALUE=URI:https://www.unicen.edu.ar/content/cine-225
LOCATION:Centro Cultural Universitario\, Hipólito Yrigoyen 662
END:VEVENT
BEGIN:VEVENT
UID:calendar.26197.field_fecha_evento.0.11
SUMMARY:CINE
DTSTAMP:20260422T171345Z
DTSTART:20230506T220000Z
DTEND:20230510T000000Z
URL;VALUE=URI:https://www.unicen.edu.ar/content/cine-226
LOCATION:Centro Cultural Universitario\, Hipólito Yrigoyen 662
END:VEVENT
BEGIN:VEVENT
UID:calendar.26226.field_fecha_evento.0.12
SUMMARY:CINE
DTSTAMP:20260422T171345Z
DTSTART:20230513T203000Z
DTEND:20230516T203000Z
URL;VALUE=URI:https://www.unicen.edu.ar/content/cine-227
LOCATION:Centro Cultural Universitario\, Hipólito Yrigoyen 662
END:VEVENT
BEGIN:VEVENT
UID:calendar.26258.field_fecha_evento.0.13
SUMMARY:CINE
DTSTAMP:20260422T171345Z
DTSTART:20230520T210000Z
DTEND:20230523T210000Z
URL;VALUE=URI:https://www.unicen.edu.ar/content/cine-228
LOCATION:Centro Cultural Universitario\, Hipólito Yrigoyen 662
END:VEVENT
BEGIN:VEVENT
UID:calendar.26284.field_fecha_evento.0.14
SUMMARY:CINE
DTSTAMP:20260422T171345Z
DTSTART:20230527T210000Z
DTEND:20230530T230000Z
URL;VALUE=URI:https://www.unicen.edu.ar/content/cine-229
LOCATION:Centro Cultural Universitario\, Hipólito Yrigoyen 662
END:VEVENT
BEGIN:VEVENT
UID:calendar.26310.field_fecha_evento.0.15
SUMMARY:CINE
DTSTAMP:20260422T171345Z
DTSTART:20230603T210000Z
DTEND:20230606T230000Z
URL;VALUE=URI:https://www.unicen.edu.ar/content/cine-230
LOCATION:Centro Cultural Universitario\, Hipólito Yrigoyen 662
END:VEVENT
BEGIN:VEVENT
UID:calendar.26395.field_fecha_evento.0.16
SUMMARY:CINE
DTSTAMP:20260422T171345Z
DTSTART:20230624T210000Z
DTEND:20230628T010000Z
URL;VALUE=URI:https://www.unicen.edu.ar/content/cine-233
LOCATION:Centro Cultural Universitario\, Hipólito Yrigoyen 662
END:VEVENT
BEGIN:VEVENT
UID:calendar.26352.field_fecha_evento.0.17
SUMMARY:CINE
DTSTAMP:20260422T171345Z
DTSTART:20230610T210000Z
DTEND:20230613T230000Z
URL;VALUE=URI:https://www.unicen.edu.ar/content/cine-232
LOCATION:Centro Cultural Universitario\, Hipólito Yrigoyen 662
END:VEVENT
BEGIN:VEVENT
UID:calendar.26429.field_fecha_evento.0.18
SUMMARY:CINE
DTSTAMP:20260422T171345Z
DTSTART:20230701T210000Z
DTEND:20230705T010000Z
URL;VALUE=URI:https://www.unicen.edu.ar/content/cine-234
LOCATION:Centro Cultural Universitario\, Hipólito Yrigoyen 662
END:VEVENT
BEGIN:VEVENT
UID:calendar.26491.field_fecha_evento.0.19
SUMMARY:CINE
DTSTAMP:20260422T171345Z
DTSTART:20230715T210000Z
DTEND:20230724T020000Z
URL;VALUE=URI:https://www.unicen.edu.ar/content/cine-236
LOCATION:Centro Cultural Universitario\, Hipólito Yrigoyen 662
END:VEVENT
BEGIN:VEVENT
UID:calendar.26569.field_fecha_evento.0.20
SUMMARY:CINE
DTSTAMP:20260422T171345Z
DTSTART:20230827T210000Z
DTEND:20230830T010000Z
URL;VALUE=URI:https://www.unicen.edu.ar/content/cine-238
LOCATION:Centro Cultural Universitario\, Hipólito Yrigoyen 662
END:VEVENT
BEGIN:VEVENT
UID:calendar.26570.field_fecha_evento.0.21
SUMMARY:CINE
DTSTAMP:20260422T171345Z
DTSTART:20230827T210000Z
DTEND:20230830T010000Z
URL;VALUE=URI:https://www.unicen.edu.ar/content/cine-239
LOCATION:Centro Cultural Universitario\, Hipólito Yrigoyen 662
END:VEVENT
BEGIN:VEVENT
UID:calendar.26598.field_fecha_evento.0.22
SUMMARY:CINE
DTSTAMP:20260422T171345Z
DTSTART:20230902T230000Z
DTEND:20230906T010000Z
URL;VALUE=URI:https://www.unicen.edu.ar/content/cine-240
LOCATION:Centro Cultural Universitario\, Hipólito Yrigoyen 662
END:VEVENT
BEGIN:VEVENT
UID:calendar.26611.field_fecha_evento.0.23
SUMMARY:CINE
DTSTAMP:20260422T171345Z
DTSTART:20230909T210000Z
DTEND:20230912T230000Z
URL;VALUE=URI:https://www.unicen.edu.ar/content/cine-241
LOCATION:Centro Cultural Universitario\, Hipólito Yrigoyen 662
END:VEVENT
BEGIN:VEVENT
UID:calendar.26641.field_fecha_evento.0.24
SUMMARY:CINE
DTSTAMP:20260422T171345Z
DTSTART:20230916T210000Z
DTEND:20230919T230000Z
URL;VALUE=URI:https://www.unicen.edu.ar/content/cine-242
LOCATION:Centro Cultural Universitario\, Hipólito Yrigoyen 662
END:VEVENT
BEGIN:VEVENT
UID:calendar.26660.field_fecha_evento.0.25
SUMMARY:CINE
DTSTAMP:20260422T171345Z
DTSTART:20230925T210000Z
DTEND:20230926T230000Z
URL;VALUE=URI:https://www.unicen.edu.ar/content/cine-243
LOCATION:Centro Cultural Universitario\, Hipólito Yrigoyen 662
END:VEVENT
BEGIN:VEVENT
UID:calendar.26670.field_fecha_evento.0.27
SUMMARY:CINE
DTSTAMP:20260422T171345Z
DTSTART:20230930T210000Z
DTEND:20231003T230000Z
URL;VALUE=URI:https://www.unicen.edu.ar/content/cine-244
LOCATION:Centro Cultural Universitario\, Hipólito Yrigoyen 662
END:VEVENT
BEGIN:VEVENT
UID:calendar.26728.field_fecha_evento.0.28
SUMMARY:20° TANDIL CINE
DTSTAMP:20260422T171345Z
DTSTART:20231011T210000Z
DTEND:20231015T230000Z
URL;VALUE=URI:https://www.unicen.edu.ar/content/20%C2%B0-tandil-cine
LOCATION:Centro Cultural Universitario\, Hipólito Yrigoyen 662
END:VEVENT
BEGIN:VEVENT
UID:calendar.26796.field_fecha_evento.0.29
SUMMARY:CINE
DTSTAMP:20260422T171345Z
DTSTART:20231028T210000Z
DTEND:20231031T230000Z
URL;VALUE=URI:https://www.unicen.edu.ar/content/cine-246
LOCATION:Centro Cultural Universitario\, Hipólito Yrigoyen 662
END:VEVENT
BEGIN:VEVENT
UID:calendar.26828.field_fecha_evento.0.30
SUMMARY:CINE
DTSTAMP:20260422T171345Z
DTSTART:20231104T180000Z
DTEND:20231107T230000Z
URL;VALUE=URI:https://www.unicen.edu.ar/content/cine-247
LOCATION:Centro Cultural Universitario\, Hipólito Yrigoyen 662
END:VEVENT
BEGIN:VEVENT
UID:calendar.26845.field_fecha_evento.0.31
SUMMARY:CINE
DTSTAMP:20260422T171345Z
DTSTART:20231111T210000Z
DTEND:20231114T230000Z
URL;VALUE=URI:https://www.unicen.edu.ar/content/cine-248
LOCATION:Centro Cultural Universitario\, Hipólito Yrigoyen 662
END:VEVENT
BEGIN:VEVENT
UID:calendar.26888.field_fecha_evento.0.32
SUMMARY:CINE
DTSTAMP:20260422T171345Z
DTSTART:20231125T210000Z
DTEND:20231129T010000Z
URL;VALUE=URI:https://www.unicen.edu.ar/content/cine-249
LOCATION:Centro Cultural Universitario\, Hipólito Yrigoyen 662
END:VEVENT
BEGIN:VEVENT
UID:calendar.26048.field_fecha_evento.0.44
SUMMARY:CINE
DTSTAMP:20260422T171345Z
DTSTART:20230401T220000Z
DTEND:20230404T010000Z
URL;VALUE=URI:https://www.unicen.edu.ar/content/cine-221
LOCATION:Centro Cultural Universitario\, Hipólito Yrigoyen 662
END:VEVENT
END:VCALENDAR
